BEGIN:VCALENDAR
VERSION:2.0
PRODID:-//Kazuya Yanagihara - ECPv5.11.0//NONSGML v1.0//EN
CALSCALE:GREGORIAN
METHOD:PUBLISH
X-WR-CALNAME:Kazuya Yanagihara
X-ORIGINAL-URL:https://kazuya-dr.com
X-WR-CALDESC:Kazuya Yanagihara のイベント
BEGIN:VTIMEZONE
TZID:Asia/Tokyo
BEGIN:STANDARD
TZOFFSETFROM:+0900
TZOFFSETTO:+0900
TZNAME:JST
DTSTART:20240101T000000
END:STANDARD
END:VTIMEZONE
BEGIN:VEVENT
DTSTART;TZID=Asia/Tokyo:20241027T000000
DTEND;TZID=Asia/Tokyo:20241027T235959
DTSTAMP:20260421T035319
CREATED:20241010T030106Z
LAST-MODIFIED:20241010T030106Z
UID:1267-1729987200-1730073599@kazuya-dr.com
SUMMARY:かりゆし58【千葉】中央学院大学 第56回あびこ祭
DESCRIPTION:【千葉】中央学院大学 第56回あびこ祭 \n\n\n\n■日時 2024/10/27(日) \n\n\n\nOPEN 15:30 / START 16:30 \n\n\n\n■会場 \n\n\n\n中央学院大学 野外特設ステージ \n\n\n\n〒270-1196 千葉県我孫子市久寺家451 \n\n\n\n\n交通アクセス | 中央学院大学中央学院大学（CGU）の公式サイトです。キャンパスは千葉県我孫子市。商学部、法学部、現代教養学部、大学院（商学研究科）を擁しています。学生一人ひとりと向き合い、寄…www.cgu.ac.jp\n\n\n\n\n■チケット \n\n\n\n観覧無料 \n\n\n\n【あびこ祭　かりゆし58スペシャルライブの注意事項】 \n\n\n\n・ライブは無料です。 \n\n\n\n・当日10：00より会場ステージ正面左側にてアリーナ券を配布します。 \n\n\n\n※アリーナ券は限定100枚。なくなり次第終了。 \n\n\n\n・アリーナ券はステージ前方エリアで観覧いただける優先入場券です。※お持ちでなくてもご覧いただけます。 \n\n\n\n・整理券はおひとり様1枚となり、変更・紛失に関しましては対応できませんのでご注意ください。 \n\n\n\n・近隣の迷惑となりますので前日や早朝からお並びいただくのはご遠慮ください。 \n\n\n\n・あびこ祭は10：00より開場となります。 あびこ祭開場前のトイレは使用できません。 \n\n\n\n・屋外ステージのため荒天時中止となります。ご了承ください。 \n\n\n\n・雨天時の傘の使用はご遠慮ください。 \n\n\n\n・アリーナ券をお持ちの方の集合は15：15となります。（詳細は券の裏に記載します。） \n\n\n\n■イベント公式 \n\n\n\n\nあびこ祭（大学祭） | 中央学院大学中央学院大学（CGU）の公式サイトです。キャンパスは千葉県我孫子市。商学部、法学部、現代教養学部、大学院（商学研究科）を擁しています。学生一人ひとりと向き合い、寄…www.cgu.ac.jp
URL:https://kazuya-dr.com/event/1267
CATEGORIES:かりゆし58
END:VEVENT
END:VCALENDAR