BEGIN:VCALENDAR
VERSION:2.0
PRODID:-//Kazuya Yanagihara - ECPv5.11.0//NONSGML v1.0//EN
CALSCALE:GREGORIAN
METHOD:PUBLISH
X-WR-CALNAME:Kazuya Yanagihara
X-ORIGINAL-URL:https://kazuya-dr.com
X-WR-CALDESC:Kazuya Yanagihara のイベント
BEGIN:VTIMEZONE
TZID:Asia/Tokyo
BEGIN:STANDARD
TZOFFSETFROM:+0900
TZOFFSETTO:+0900
TZNAME:JST
DTSTART:20240101T000000
END:STANDARD
END:VTIMEZONE
BEGIN:VEVENT
DTSTART;TZID=Asia/Tokyo:20241026T000000
DTEND;TZID=Asia/Tokyo:20241026T235959
DTSTAMP:20260421T080146
CREATED:20241010T030250Z
LAST-MODIFIED:20241010T030251Z
UID:1271-1729900800-1729987199@kazuya-dr.com
SUMMARY:かりゆし58【大阪】大阪⻭科大学 第56回楠葉祭
DESCRIPTION:【大阪】大阪⻭科大学 第56回楠葉祭 \n\n\n\n■日時 2024/10/26(土) \n\n\n\nOPEN 17:00 / START 17:30 \n\n\n\n■会場 \n\n\n\n大阪⻭科大学 楠葉キャンパス講堂 \n\n\n\n〒573-1121 大阪府枚方市楠葉花園町8番1号 \n\n\n\n\n交通アクセス | 大阪歯科大学www.osaka-dent.ac.jp\n\n\n\n\n■チケット \n\n\n\n観覧無料/全席自由 \n\n\n\n■イベント公式 \n\n\n\n\nLogin • Instagramwww.instagram.com
URL:https://kazuya-dr.com/event/1271
CATEGORIES:かりゆし58
END:VEVENT
END:VCALENDAR